BEGIN:VCALENDAR
VERSION:2.0
PRODID:-//Sam North - ECPv6.15.20//NONSGML v1.0//EN
CALSCALE:GREGORIAN
METHOD:PUBLISH
X-WR-CALNAME:Sam North
X-ORIGINAL-URL:https://samnorth.art
X-WR-CALDESC:Events for Sam North
REFRESH-INTERVAL;VALUE=DURATION:PT1H
X-Robots-Tag:noindex
X-PUBLISHED-TTL:PT1H
BEGIN:VTIMEZONE
TZID:America/New_York
BEGIN:DAYLIGHT
TZOFFSETFROM:-0500
TZOFFSETTO:-0400
TZNAME:EDT
DTSTART:20240310T070000
END:DAYLIGHT
BEGIN:STANDARD
TZOFFSETFROM:-0400
TZOFFSETTO:-0500
TZNAME:EST
DTSTART:20241103T060000
END:STANDARD
BEGIN:DAYLIGHT
TZOFFSETFROM:-0500
TZOFFSETTO:-0400
TZNAME:EDT
DTSTART:20250309T070000
END:DAYLIGHT
BEGIN:STANDARD
TZOFFSETFROM:-0400
TZOFFSETTO:-0500
TZNAME:EST
DTSTART:20251102T060000
END:STANDARD
BEGIN:DAYLIGHT
TZOFFSETFROM:-0500
TZOFFSETTO:-0400
TZNAME:EDT
DTSTART:20260308T070000
END:DAYLIGHT
BEGIN:STANDARD
TZOFFSETFROM:-0400
TZOFFSETTO:-0500
TZNAME:EST
DTSTART:20261101T060000
END:STANDARD
END:VTIMEZONE
BEGIN:VEVENT
DTSTART;VALUE=DATE:20250429
DTEND;VALUE=DATE:20251110
DTSTAMP:20260421T054443
CREATED:20250402T231501Z
LAST-MODIFIED:20251110T162808Z
UID:4629-1745884800-1762732799@samnorth.art
SUMMARY:WINDOW exhibition
DESCRIPTION:I’ve been rotating paintings in and out of the big storefront windows at Parker’s Book Bazaar in downtown Sarasota (southwest corner of Main & Lemon). Depending on the day\, you’ll find at least one of my bigger paintings (and maybe as many as three) up on display. Even when the store’s closed\, the art’s accessible and lit so stop by anytime. \n\nParker’s is now also offering a selection of my prints for sale\, so GO BUY THEM \nShare this:\n				Email a link to a friend (Opens in new window)\n				Email\n			\n				Share on Bluesky (Opens in new window)\n				Bluesky\n			\n				Share on Facebook (Opens in new window)\n				Facebook\n			\n				Share on Reddit (Opens in new window)\n				Reddit\n			\n				Share on X (Opens in new window)\n				X\n			More\n				Print (Opens in new window)\n				Print\n			\n				Share on LinkedIn (Opens in new window)\n				LinkedIn\n			\n				Share on Mastodon (Opens in new window)\n				Mastodon\n			\n				Share on Nextdoor (Opens in new window)\n				Nextdoor\n			\n				Share on Pinterest (Opens in new window)\n				Pinterest\n			\n				Share on Telegram (Opens in new window)\n				Telegram\n			\n				Share on Threads (Opens in new window)\n				Threads\n			\n				Share on Tumblr (Opens in new window)\n				Tumblr\n			\n				Share on WhatsApp (Opens in new window)\n				WhatsApp
URL:https://samnorth.art/event/parkersbooks/
LOCATION:Parker’s\, 1488 Main St.\, Sarasota\, FL\, 34236\, United States
END:VEVENT
BEGIN:VEVENT
DTSTART;TZID=America/New_York:20251101T100000
DTEND;TZID=America/New_York:20251102T170000
DTSTAMP:20260421T054443
CREATED:20251023T155957Z
LAST-MODIFIED:20251028T153537Z
UID:5801-1761991200-1762102800@samnorth.art
SUMMARY:Eat\, Drink\, & Shop at the Bay
DESCRIPTION:Two day event. 10am to 5m on Saturday. 11am to 6pm on Sunday. \nShare this:\n				Email a link to a friend (Opens in new window)\n				Email\n			\n				Share on Bluesky (Opens in new window)\n				Bluesky\n			\n				Share on Facebook (Opens in new window)\n				Facebook\n			\n				Share on Reddit (Opens in new window)\n				Reddit\n			\n				Share on X (Opens in new window)\n				X\n			More\n				Print (Opens in new window)\n				Print\n			\n				Share on LinkedIn (Opens in new window)\n				LinkedIn\n			\n				Share on Mastodon (Opens in new window)\n				Mastodon\n			\n				Share on Nextdoor (Opens in new window)\n				Nextdoor\n			\n				Share on Pinterest (Opens in new window)\n				Pinterest\n			\n				Share on Telegram (Opens in new window)\n				Telegram\n			\n				Share on Threads (Opens in new window)\n				Threads\n			\n				Share on Tumblr (Opens in new window)\n				Tumblr\n			\n				Share on WhatsApp (Opens in new window)\n				WhatsApp
URL:https://samnorth.art/event/eat-drink-shop-by-the-bay/
LOCATION:J.D. Hamel Park\, 199 Bayfront Dr\, Sarasota\, FL\, 34236\, United States
END:VEVENT
BEGIN:VEVENT
DTSTART;TZID=America/New_York:20251104T090000
DTEND;TZID=America/New_York:20251104T140000
DTSTAMP:20260421T054443
CREATED:20251023T160246Z
LAST-MODIFIED:20251028T153654Z
UID:5804-1762246800-1762264800@samnorth.art
SUMMARY:The Market at NBP
DESCRIPTION:Share this:\n				Email a link to a friend (Opens in new window)\n				Email\n			\n				Share on Bluesky (Opens in new window)\n				Bluesky\n			\n				Share on Facebook (Opens in new window)\n				Facebook\n			\n				Share on Reddit (Opens in new window)\n				Reddit\n			\n				Share on X (Opens in new window)\n				X\n			More\n				Print (Opens in new window)\n				Print\n			\n				Share on LinkedIn (Opens in new window)\n				LinkedIn\n			\n				Share on Mastodon (Opens in new window)\n				Mastodon\n			\n				Share on Nextdoor (Opens in new window)\n				Nextdoor\n			\n				Share on Pinterest (Opens in new window)\n				Pinterest\n			\n				Share on Telegram (Opens in new window)\n				Telegram\n			\n				Share on Threads (Opens in new window)\n				Threads\n			\n				Share on Tumblr (Opens in new window)\n				Tumblr\n			\n				Share on WhatsApp (Opens in new window)\n				WhatsApp
URL:https://samnorth.art/event/tuesdays-at-benderson-park/
LOCATION:Benderson Park\, 5851 Nathan Benderson Circle\, Sarasota\, FL\, 34235\, United States
END:VEVENT
BEGIN:VEVENT
DTSTART;TZID=America/New_York:20251107T180000
DTEND;TZID=America/New_York:20251107T220000
DTSTAMP:20260421T054443
CREATED:20251023T160517Z
LAST-MODIFIED:20251023T160517Z
UID:5809-1762538400-1762552800@samnorth.art
SUMMARY:Groovehive Market
DESCRIPTION:Share this:\n				Email a link to a friend (Opens in new window)\n				Email\n			\n				Share on Bluesky (Opens in new window)\n				Bluesky\n			\n				Share on Facebook (Opens in new window)\n				Facebook\n			\n				Share on Reddit (Opens in new window)\n				Reddit\n			\n				Share on X (Opens in new window)\n				X\n			More\n				Print (Opens in new window)\n				Print\n			\n				Share on LinkedIn (Opens in new window)\n				LinkedIn\n			\n				Share on Mastodon (Opens in new window)\n				Mastodon\n			\n				Share on Nextdoor (Opens in new window)\n				Nextdoor\n			\n				Share on Pinterest (Opens in new window)\n				Pinterest\n			\n				Share on Telegram (Opens in new window)\n				Telegram\n			\n				Share on Threads (Opens in new window)\n				Threads\n			\n				Share on Tumblr (Opens in new window)\n				Tumblr\n			\n				Share on WhatsApp (Opens in new window)\n				WhatsApp
URL:https://samnorth.art/event/groovehive-market-3/
LOCATION:Magnanimous Brewing\, 6809 Nebraska Ave\, Tampa\, FL\, 33604\, United States
END:VEVENT
BEGIN:VEVENT
DTSTART;TZID=America/New_York:20251108T100000
DTEND;TZID=America/New_York:20251109T160000
DTSTAMP:20260421T054443
CREATED:20251023T160941Z
LAST-MODIFIED:20251023T160941Z
UID:5813-1762596000-1762704000@samnorth.art
SUMMARY:22nd Annual Punta Gorda Arts & Crafts Show
DESCRIPTION:Two day event. 10am to 4pm on both Saturday and Sunday. \nShare this:\n				Email a link to a friend (Opens in new window)\n				Email\n			\n				Share on Bluesky (Opens in new window)\n				Bluesky\n			\n				Share on Facebook (Opens in new window)\n				Facebook\n			\n				Share on Reddit (Opens in new window)\n				Reddit\n			\n				Share on X (Opens in new window)\n				X\n			More\n				Print (Opens in new window)\n				Print\n			\n				Share on LinkedIn (Opens in new window)\n				LinkedIn\n			\n				Share on Mastodon (Opens in new window)\n				Mastodon\n			\n				Share on Nextdoor (Opens in new window)\n				Nextdoor\n			\n				Share on Pinterest (Opens in new window)\n				Pinterest\n			\n				Share on Telegram (Opens in new window)\n				Telegram\n			\n				Share on Threads (Opens in new window)\n				Threads\n			\n				Share on Tumblr (Opens in new window)\n				Tumblr\n			\n				Share on WhatsApp (Opens in new window)\n				WhatsApp
URL:https://samnorth.art/event/22nd-annual-punta-gorda-arts-crafts-show/
LOCATION:Gilchrist Park\, 400 W Retta Esplanade\, Punta Gorda\, FL\, 33950\, United States
END:VEVENT
BEGIN:VEVENT
DTSTART;TZID=America/New_York:20251111T090000
DTEND;TZID=America/New_York:20251111T140000
DTSTAMP:20260421T054443
CREATED:20251023T160337Z
LAST-MODIFIED:20251028T153642Z
UID:5807-1762851600-1762869600@samnorth.art
SUMMARY:The Market at NBP
DESCRIPTION:Share this:\n				Email a link to a friend (Opens in new window)\n				Email\n			\n				Share on Bluesky (Opens in new window)\n				Bluesky\n			\n				Share on Facebook (Opens in new window)\n				Facebook\n			\n				Share on Reddit (Opens in new window)\n				Reddit\n			\n				Share on X (Opens in new window)\n				X\n			More\n				Print (Opens in new window)\n				Print\n			\n				Share on LinkedIn (Opens in new window)\n				LinkedIn\n			\n				Share on Mastodon (Opens in new window)\n				Mastodon\n			\n				Share on Nextdoor (Opens in new window)\n				Nextdoor\n			\n				Share on Pinterest (Opens in new window)\n				Pinterest\n			\n				Share on Telegram (Opens in new window)\n				Telegram\n			\n				Share on Threads (Opens in new window)\n				Threads\n			\n				Share on Tumblr (Opens in new window)\n				Tumblr\n			\n				Share on WhatsApp (Opens in new window)\n				WhatsApp
URL:https://samnorth.art/event/tuesdays-at-benderson-park-2/
LOCATION:Benderson Park\, 5851 Nathan Benderson Circle\, Sarasota\, FL\, 34235\, United States
END:VEVENT
BEGIN:VEVENT
DTSTART;TZID=America/New_York:20251115T110000
DTEND;TZID=America/New_York:20251116T190000
DTSTAMP:20260421T054443
CREATED:20251023T161237Z
LAST-MODIFIED:20251023T161237Z
UID:5816-1763204400-1763319600@samnorth.art
SUMMARY:Charleston SE Punk Flea Market
DESCRIPTION:Two day event. Runs from 11am to 7pm on both Saturday and Sunday. $10 admission covers your entry for both days. \nShare this:\n				Email a link to a friend (Opens in new window)\n				Email\n			\n				Share on Bluesky (Opens in new window)\n				Bluesky\n			\n				Share on Facebook (Opens in new window)\n				Facebook\n			\n				Share on Reddit (Opens in new window)\n				Reddit\n			\n				Share on X (Opens in new window)\n				X\n			More\n				Print (Opens in new window)\n				Print\n			\n				Share on LinkedIn (Opens in new window)\n				LinkedIn\n			\n				Share on Mastodon (Opens in new window)\n				Mastodon\n			\n				Share on Nextdoor (Opens in new window)\n				Nextdoor\n			\n				Share on Pinterest (Opens in new window)\n				Pinterest\n			\n				Share on Telegram (Opens in new window)\n				Telegram\n			\n				Share on Threads (Opens in new window)\n				Threads\n			\n				Share on Tumblr (Opens in new window)\n				Tumblr\n			\n				Share on WhatsApp (Opens in new window)\n				WhatsApp
URL:https://samnorth.art/event/charleston-se-punk-flea-market/
LOCATION:Omar Shriners Event Center\, 176 Patriots Point Rd\, Mount Pleasant\, SC\, 29464\, United States
END:VEVENT
BEGIN:VEVENT
DTSTART;TZID=America/New_York:20251122T110000
DTEND;TZID=America/New_York:20251123T190000
DTSTAMP:20260421T054443
CREATED:20251023T161456Z
LAST-MODIFIED:20251023T161456Z
UID:5818-1763809200-1763924400@samnorth.art
SUMMARY:Spartanburg SE Punk Flea Market
DESCRIPTION:Two day event. Runs from 11am to 7pm on both Saturday and Sunday. $10 admission fee covers your entry for both days. \nShare this:\n				Email a link to a friend (Opens in new window)\n				Email\n			\n				Share on Bluesky (Opens in new window)\n				Bluesky\n			\n				Share on Facebook (Opens in new window)\n				Facebook\n			\n				Share on Reddit (Opens in new window)\n				Reddit\n			\n				Share on X (Opens in new window)\n				X\n			More\n				Print (Opens in new window)\n				Print\n			\n				Share on LinkedIn (Opens in new window)\n				LinkedIn\n			\n				Share on Mastodon (Opens in new window)\n				Mastodon\n			\n				Share on Nextdoor (Opens in new window)\n				Nextdoor\n			\n				Share on Pinterest (Opens in new window)\n				Pinterest\n			\n				Share on Telegram (Opens in new window)\n				Telegram\n			\n				Share on Threads (Opens in new window)\n				Threads\n			\n				Share on Tumblr (Opens in new window)\n				Tumblr\n			\n				Share on WhatsApp (Opens in new window)\n				WhatsApp
URL:https://samnorth.art/event/spartanburg-se-punk-flea-market/
LOCATION:Piedmont Interstate Fairgrounds\, 575 Fairgrounds Rd\, Spartanburg\, SC\, 29303\, United States
END:VEVENT
BEGIN:VEVENT
DTSTART;TZID=America/New_York:20251128T110000
DTEND;TZID=America/New_York:20251130T190000
DTSTAMP:20260421T054443
CREATED:20251023T161822Z
LAST-MODIFIED:20251023T161845Z
UID:5820-1764327600-1764529200@samnorth.art
SUMMARY:Greenville SE Punk Flea Market
DESCRIPTION:Three day event. Runs from 11am to 7pm on Friday\, Saturday\, and Sunday. $10 admission covers your entry for all three days. There’ll also be live bands playing. \nShare this:\n				Email a link to a friend (Opens in new window)\n				Email\n			\n				Share on Bluesky (Opens in new window)\n				Bluesky\n			\n				Share on Facebook (Opens in new window)\n				Facebook\n			\n				Share on Reddit (Opens in new window)\n				Reddit\n			\n				Share on X (Opens in new window)\n				X\n			More\n				Print (Opens in new window)\n				Print\n			\n				Share on LinkedIn (Opens in new window)\n				LinkedIn\n			\n				Share on Mastodon (Opens in new window)\n				Mastodon\n			\n				Share on Nextdoor (Opens in new window)\n				Nextdoor\n			\n				Share on Pinterest (Opens in new window)\n				Pinterest\n			\n				Share on Telegram (Opens in new window)\n				Telegram\n			\n				Share on Threads (Opens in new window)\n				Threads\n			\n				Share on Tumblr (Opens in new window)\n				Tumblr\n			\n				Share on WhatsApp (Opens in new window)\n				WhatsApp
URL:https://samnorth.art/event/greenville-se-punk-flea-market/
LOCATION:Greenville Shrine Club\, 119 Beverly Rd\, Greenville\, SC\, 29609\, United States
END:VEVENT
END:VCALENDAR