BEGIN:VCALENDAR
VERSION:2.0
PRODID:-//Sam North - ECPv6.15.20//NONSGML v1.0//EN
CALSCALE:GREGORIAN
METHOD:PUBLISH
X-WR-CALNAME:Sam North
X-ORIGINAL-URL:https://samnorth.art
X-WR-CALDESC:Events for Sam North
REFRESH-INTERVAL;VALUE=DURATION:PT1H
X-Robots-Tag:noindex
X-PUBLISHED-TTL:PT1H
BEGIN:VTIMEZONE
TZID:America/New_York
BEGIN:DAYLIGHT
TZOFFSETFROM:-0500
TZOFFSETTO:-0400
TZNAME:EDT
DTSTART:20240310T070000
END:DAYLIGHT
BEGIN:STANDARD
TZOFFSETFROM:-0400
TZOFFSETTO:-0500
TZNAME:EST
DTSTART:20241103T060000
END:STANDARD
BEGIN:DAYLIGHT
TZOFFSETFROM:-0500
TZOFFSETTO:-0400
TZNAME:EDT
DTSTART:20250309T070000
END:DAYLIGHT
BEGIN:STANDARD
TZOFFSETFROM:-0400
TZOFFSETTO:-0500
TZNAME:EST
DTSTART:20251102T060000
END:STANDARD
BEGIN:DAYLIGHT
TZOFFSETFROM:-0500
TZOFFSETTO:-0400
TZNAME:EDT
DTSTART:20260308T070000
END:DAYLIGHT
BEGIN:STANDARD
TZOFFSETFROM:-0400
TZOFFSETTO:-0500
TZNAME:EST
DTSTART:20261101T060000
END:STANDARD
END:VTIMEZONE
BEGIN:VEVENT
DTSTART;TZID=America/New_York:20250215T100000
DTEND;TZID=America/New_York:20250215T150000
DTSTAMP:20260419T222232
CREATED:20250214T191032Z
LAST-MODIFIED:20250214T191032Z
UID:4422-1739613600-1739631600@samnorth.art
SUMMARY:Limelight Market
DESCRIPTION:Share this:\n				Email a link to a friend (Opens in new window)\n				Email\n			\n				Share on Bluesky (Opens in new window)\n				Bluesky\n			\n				Share on Facebook (Opens in new window)\n				Facebook\n			\n				Share on Reddit (Opens in new window)\n				Reddit\n			\n				Share on X (Opens in new window)\n				X\n			More\n				Print (Opens in new window)\n				Print\n			\n				Share on LinkedIn (Opens in new window)\n				LinkedIn\n			\n				Share on Mastodon (Opens in new window)\n				Mastodon\n			\n				Share on Nextdoor (Opens in new window)\n				Nextdoor\n			\n				Share on Pinterest (Opens in new window)\n				Pinterest\n			\n				Share on Telegram (Opens in new window)\n				Telegram\n			\n				Share on Threads (Opens in new window)\n				Threads\n			\n				Share on Tumblr (Opens in new window)\n				Tumblr\n			\n				Share on WhatsApp (Opens in new window)\n				WhatsApp
URL:https://samnorth.art/event/limelight-market/
LOCATION:The Bazaar on Apricot & Lime\, 821 Apricot Ave\, Sarasota\, FL\, 34237\, United States
END:VEVENT
BEGIN:VEVENT
DTSTART;TZID=America/New_York:20250209T090000
DTEND;TZID=America/New_York:20250209T150000
DTSTAMP:20260419T222232
CREATED:20250124T042041Z
LAST-MODIFIED:20250124T042257Z
UID:4329-1739091600-1739113200@samnorth.art
SUMMARY:Love Yourself wellness market
DESCRIPTION:Share this:\n				Email a link to a friend (Opens in new window)\n				Email\n			\n				Share on Bluesky (Opens in new window)\n				Bluesky\n			\n				Share on Facebook (Opens in new window)\n				Facebook\n			\n				Share on Reddit (Opens in new window)\n				Reddit\n			\n				Share on X (Opens in new window)\n				X\n			More\n				Print (Opens in new window)\n				Print\n			\n				Share on LinkedIn (Opens in new window)\n				LinkedIn\n			\n				Share on Mastodon (Opens in new window)\n				Mastodon\n			\n				Share on Nextdoor (Opens in new window)\n				Nextdoor\n			\n				Share on Pinterest (Opens in new window)\n				Pinterest\n			\n				Share on Telegram (Opens in new window)\n				Telegram\n			\n				Share on Threads (Opens in new window)\n				Threads\n			\n				Share on Tumblr (Opens in new window)\n				Tumblr\n			\n				Share on WhatsApp (Opens in new window)\n				WhatsApp
URL:https://samnorth.art/event/love-yourself-wellness-market/
LOCATION:Meadows Market\, 5041 Ringwood Meadows\, Sarasota\, FL\, 34235\, United States
END:VEVENT
BEGIN:VEVENT
DTSTART;TZID=America/New_York:20250208T110000
DTEND;TZID=America/New_York:20250208T160000
DTSTAMP:20260419T222232
CREATED:20250204T233142Z
LAST-MODIFIED:20250204T233142Z
UID:4388-1739012400-1739030400@samnorth.art
SUMMARY:Village of the Arts’ February Art Walk (Day 2)
DESCRIPTION:Share this:\n				Email a link to a friend (Opens in new window)\n				Email\n			\n				Share on Bluesky (Opens in new window)\n				Bluesky\n			\n				Share on Facebook (Opens in new window)\n				Facebook\n			\n				Share on Reddit (Opens in new window)\n				Reddit\n			\n				Share on X (Opens in new window)\n				X\n			More\n				Print (Opens in new window)\n				Print\n			\n				Share on LinkedIn (Opens in new window)\n				LinkedIn\n			\n				Share on Mastodon (Opens in new window)\n				Mastodon\n			\n				Share on Nextdoor (Opens in new window)\n				Nextdoor\n			\n				Share on Pinterest (Opens in new window)\n				Pinterest\n			\n				Share on Telegram (Opens in new window)\n				Telegram\n			\n				Share on Threads (Opens in new window)\n				Threads\n			\n				Share on Tumblr (Opens in new window)\n				Tumblr\n			\n				Share on WhatsApp (Opens in new window)\n				WhatsApp
URL:https://samnorth.art/event/village-of-the-arts-february-art-walk-day-2/
LOCATION:Jerk Dog Records\, 1119 12th St W\, Bradenton\, FL\, 34205\, United States
END:VEVENT
BEGIN:VEVENT
DTSTART;TZID=America/New_York:20250207T180000
DTEND;TZID=America/New_York:20250207T213000
DTSTAMP:20260419T222232
CREATED:20250204T232845Z
LAST-MODIFIED:20250204T233244Z
UID:4385-1738951200-1738963800@samnorth.art
SUMMARY:Village of the Arts’ February Art Walk (Day 1)
DESCRIPTION:Share this:\n				Email a link to a friend (Opens in new window)\n				Email\n			\n				Share on Bluesky (Opens in new window)\n				Bluesky\n			\n				Share on Facebook (Opens in new window)\n				Facebook\n			\n				Share on Reddit (Opens in new window)\n				Reddit\n			\n				Share on X (Opens in new window)\n				X\n			More\n				Print (Opens in new window)\n				Print\n			\n				Share on LinkedIn (Opens in new window)\n				LinkedIn\n			\n				Share on Mastodon (Opens in new window)\n				Mastodon\n			\n				Share on Nextdoor (Opens in new window)\n				Nextdoor\n			\n				Share on Pinterest (Opens in new window)\n				Pinterest\n			\n				Share on Telegram (Opens in new window)\n				Telegram\n			\n				Share on Threads (Opens in new window)\n				Threads\n			\n				Share on Tumblr (Opens in new window)\n				Tumblr\n			\n				Share on WhatsApp (Opens in new window)\n				WhatsApp
URL:https://samnorth.art/event/village-of-the-arts-february-art-walk-day-1/
LOCATION:Jerk Dog Records\, 1119 12th St W\, Bradenton\, FL\, 34205\, United States
END:VEVENT
BEGIN:VEVENT
DTSTART;TZID=America/New_York:20250202T120000
DTEND;TZID=America/New_York:20250202T160000
DTSTAMP:20260419T222232
CREATED:20250124T040809Z
LAST-MODIFIED:20250124T042152Z
UID:4322-1738497600-1738512000@samnorth.art
SUMMARY:Brewers Market
DESCRIPTION:Share this:\n				Email a link to a friend (Opens in new window)\n				Email\n			\n				Share on Bluesky (Opens in new window)\n				Bluesky\n			\n				Share on Facebook (Opens in new window)\n				Facebook\n			\n				Share on Reddit (Opens in new window)\n				Reddit\n			\n				Share on X (Opens in new window)\n				X\n			More\n				Print (Opens in new window)\n				Print\n			\n				Share on LinkedIn (Opens in new window)\n				LinkedIn\n			\n				Share on Mastodon (Opens in new window)\n				Mastodon\n			\n				Share on Nextdoor (Opens in new window)\n				Nextdoor\n			\n				Share on Pinterest (Opens in new window)\n				Pinterest\n			\n				Share on Telegram (Opens in new window)\n				Telegram\n			\n				Share on Threads (Opens in new window)\n				Threads\n			\n				Share on Tumblr (Opens in new window)\n				Tumblr\n			\n				Share on WhatsApp (Opens in new window)\n				WhatsApp
URL:https://samnorth.art/event/brewers-market/
LOCATION:Pee-Pa’s Garage Craft Brewery\, 6340 49th St N\, Pinellas Park\, FL\, 33781\, United States
END:VEVENT
BEGIN:VEVENT
DTSTART;TZID=America/New_York:20250130T180000
DTEND;TZID=America/New_York:20250130T220000
DTSTAMP:20260419T222232
CREATED:20250128T163546Z
LAST-MODIFIED:20250128T163546Z
UID:4365-1738260000-1738274400@samnorth.art
SUMMARY:Twilight Bazaar
DESCRIPTION:Share this:\n				Email a link to a friend (Opens in new window)\n				Email\n			\n				Share on Bluesky (Opens in new window)\n				Bluesky\n			\n				Share on Facebook (Opens in new window)\n				Facebook\n			\n				Share on Reddit (Opens in new window)\n				Reddit\n			\n				Share on X (Opens in new window)\n				X\n			More\n				Print (Opens in new window)\n				Print\n			\n				Share on LinkedIn (Opens in new window)\n				LinkedIn\n			\n				Share on Mastodon (Opens in new window)\n				Mastodon\n			\n				Share on Nextdoor (Opens in new window)\n				Nextdoor\n			\n				Share on Pinterest (Opens in new window)\n				Pinterest\n			\n				Share on Telegram (Opens in new window)\n				Telegram\n			\n				Share on Threads (Opens in new window)\n				Threads\n			\n				Share on Tumblr (Opens in new window)\n				Tumblr\n			\n				Share on WhatsApp (Opens in new window)\n				WhatsApp
URL:https://samnorth.art/event/twilight-bazaar/
LOCATION:Party on the Block\, 4220 N Florida Ave\, Tampa\, FL\, 33603\, United States
END:VEVENT
BEGIN:VEVENT
DTSTART;TZID=America/New_York:20250125T120000
DTEND;TZID=America/New_York:20250125T170000
DTSTAMP:20260419T222232
CREATED:20250124T035721Z
LAST-MODIFIED:20250124T042121Z
UID:4317-1737806400-1737824400@samnorth.art
SUMMARY:Tampa Bay Oddities Market
DESCRIPTION:Share this:\n				Email a link to a friend (Opens in new window)\n				Email\n			\n				Share on Bluesky (Opens in new window)\n				Bluesky\n			\n				Share on Facebook (Opens in new window)\n				Facebook\n			\n				Share on Reddit (Opens in new window)\n				Reddit\n			\n				Share on X (Opens in new window)\n				X\n			More\n				Print (Opens in new window)\n				Print\n			\n				Share on LinkedIn (Opens in new window)\n				LinkedIn\n			\n				Share on Mastodon (Opens in new window)\n				Mastodon\n			\n				Share on Nextdoor (Opens in new window)\n				Nextdoor\n			\n				Share on Pinterest (Opens in new window)\n				Pinterest\n			\n				Share on Telegram (Opens in new window)\n				Telegram\n			\n				Share on Threads (Opens in new window)\n				Threads\n			\n				Share on Tumblr (Opens in new window)\n				Tumblr\n			\n				Share on WhatsApp (Opens in new window)\n				WhatsApp
URL:https://samnorth.art/event/tampa-bay-oddities-market/
LOCATION:The Catacombs @ The Spookeasy Lounge\, 1909 N 15th St\, Tampa\, FL\, 33605\, United States
END:VEVENT
END:VCALENDAR